BEGIN:VCALENDAR
VERSION:2.0
PRODID:-//Squarespace Inc/Squarespace 6//v6//EN
BEGIN:VEVENT
UID:57ecaf0fd1758e4958752609@squarespace.com
DTSTAMP:20200901T054937Z
DTSTART:20170915T063000Z
DTEND:20230414T073000Z
SUMMARY:Turkey taco lettuce wraps
END:VEVENT
END:VCALENDAR
