BEGIN:VCALENDAR
VERSION:2.0
PRODID:-//Squarespace Inc/Squarespace 6//v6//EN
BEGIN:VEVENT
UID:6004e4963d757a3dbd2cb386@squarespace.com
DTSTAMP:20210118T013611Z
DTSTART:20210118T013000Z
DTEND:20210118T023000Z
SUMMARY:Tropical Fruit Pavlova
GEO:-37.847523;144.997708
LOCATION:AGA Australia\, 330 Malvern Road\, Prahran\, VIC\, 3181\, Australi
 a
END:VEVENT
END:VCALENDAR
