BEGIN:VCALENDAR
VERSION:2.0
PRODID:-//Squarespace Inc/Squarespace 6//v6//EN
BEGIN:VEVENT
UID:6004e67fb97d4d110c92a0e4@squarespace.com
DTSTAMP:20210118T014202Z
DTSTART:20210118T020000Z
DTEND:20210118T030000Z
SUMMARY:Sweetcorn Pancakes
GEO:-37.847523;144.997708
LOCATION:AGA Australia\, 330 Malvern Road\, Prahran\, VIC\, 3181\, Australi
 a
END:VEVENT
END:VCALENDAR
