BEGIN:VCALENDAR
VERSION:2.0
PRODID:-//Squarespace Inc/Squarespace 6//v6//EN
BEGIN:VEVENT
UID:5fe172f350355068b7e80a50@squarespace.com
DTSTAMP:20210110T231723Z
DTSTART:20201222T043000Z
DTEND:20201222T053000Z
SUMMARY:Strawberry Roulade
GEO:-37.847523;144.997708
LOCATION:AGA Australia\, 330 Malvern Road\, Prahran\, VIC\, 3181\, Australi
 a
END:VEVENT
END:VCALENDAR
