BEGIN:VCALENDAR
VERSION:2.0
PRODID:-//Squarespace Inc/Squarespace 6//v6//EN
BEGIN:VEVENT
UID:5e7c2197c05766674ba64e0f@squarespace.com
DTSTAMP:20200901T050810Z
DTSTART:20200326T033000Z
DTEND:20200326T043000Z
SUMMARY:Strawberry Cheesecake
END:VEVENT
END:VCALENDAR
