BEGIN:VCALENDAR
VERSION:2.0
PRODID:-//Squarespace Inc/Squarespace 6//v6//EN
BEGIN:VEVENT
UID:5dcca535a5c805160d7a9b05@squarespace.com
DTSTAMP:20200901T055158Z
DTSTART:20191114T010000Z
DTEND:20210714T030000Z
SUMMARY:Spanakopita
GEO:-37.847522;144.997727
LOCATION:AGA Australia\, 330 Malvern Rd\, Prahran\, Australia
END:VEVENT
END:VCALENDAR
