BEGIN:VCALENDAR
VERSION:2.0
PRODID:-//Squarespace Inc/Squarespace 6//v6//EN
BEGIN:VEVENT
UID:5f4ddece2952352c84b74dff@squarespace.com
DTSTAMP:20200901T054401Z
DTSTART:20200901T060000Z
DTEND:20200901T070000Z
SUMMARY:Soda Bread
END:VEVENT
END:VCALENDAR
