BEGIN:VCALENDAR
VERSION:2.0
PRODID:-//Squarespace Inc/Squarespace 6//v6//EN
BEGIN:VEVENT
UID:5fd6b15e154d727871f85ea0@squarespace.com
DTSTAMP:20201214T004004Z
DTSTART:20201214T003000Z
DTEND:20201214T013000Z
SUMMARY:Seared Salmon Niçoise Salad
GEO:-37.847523;144.997708
LOCATION:AGA Australia\, 330 Malvern Road\, Prahran\, VIC\, 3181\, Australi
 a
END:VEVENT
END:VCALENDAR
