BEGIN:VCALENDAR
VERSION:2.0
PRODID:-//Squarespace Inc/Squarespace 6//v6//EN
BEGIN:VEVENT
UID:5f1e4904b4238228f9ebc98e@squarespace.com
DTSTAMP:20200901T055235Z
DTSTART:20200727T033000Z
DTEND:20200727T043000Z
SUMMARY:Sardine &amp\; Oat Dog Cookies
END:VEVENT
END:VCALENDAR
