BEGIN:VCALENDAR
VERSION:2.0
PRODID:-//Squarespace Inc/Squarespace 6//v6//EN
BEGIN:VEVENT
UID:5b3c36240e2e723077a3fb80@squarespace.com
DTSTAMP:20200901T062852Z
DTSTART:20160518T030000Z
DTEND:20210418T040000Z
SUMMARY:Roasted Pumpkin Fettuccine
END:VEVENT
END:VCALENDAR
