BEGIN:VCALENDAR
VERSION:2.0
PRODID:-//Squarespace Inc/Squarespace 6//v6//EN
BEGIN:VEVENT
UID:5fc96d5828e47b5d50252611@squarespace.com
DTSTAMP:20201203T230159Z
DTSTART:20201203T230000Z
DTEND:20201204T000000Z
SUMMARY:Roasted Butternut Squash &amp\; Sweet Potato with Kale &amp\; Pomeg
 ranate 
GEO:-37.847523;144.997708
LOCATION:AGA Australia\, 330 Malvern Road\, Prahran\, VIC\, 3181\, Australi
 a
END:VEVENT
END:VCALENDAR
