BEGIN:VCALENDAR
VERSION:2.0
PRODID:-//Squarespace Inc/Squarespace 6//v6//EN
BEGIN:VEVENT
UID:5dca475f0ca1654bf8ff927e@squarespace.com
DTSTAMP:20200904T012719Z
DTSTART:20191112T060000Z
DTEND:20191112T070000Z
SUMMARY:Roast Lamb
GEO:-37.847522;144.997727
LOCATION:AGA Australia\, 330 Malvern Rd\, Prahran\, Australia
END:VEVENT
END:VCALENDAR
