BEGIN:VCALENDAR
VERSION:2.0
PRODID:-//Squarespace Inc/Squarespace 6//v6//EN
BEGIN:VEVENT
UID:5dca32694516934f05124c8f@squarespace.com
DTSTAMP:20200901T045829Z
DTSTART:20191112T043000Z
DTEND:20191112T053000Z
SUMMARY:Roast Beef Yorkshire Pudding
GEO:-37.847522;144.997727
LOCATION:AGA Australia\, 330 Malvern Rd\, Prahran\, Australia
END:VEVENT
END:VCALENDAR
