BEGIN:VCALENDAR
VERSION:2.0
PRODID:-//Squarespace Inc/Squarespace 6//v6//EN
BEGIN:VEVENT
UID:5de98dac501acc75193df545@squarespace.com
DTSTAMP:20200901T050834Z
DTSTART:20191205T233000Z
DTEND:20191206T003000Z
SUMMARY:Prawn and Mango Kebabs
GEO:-37.847522;144.997727
LOCATION:AGA Australia\, 330 Malvern Rd\, Prahran\, Australia
END:VEVENT
END:VCALENDAR
