BEGIN:VCALENDAR
VERSION:2.0
PRODID:-//Squarespace Inc/Squarespace 6//v6//EN
BEGIN:VEVENT
UID:5fb3144e6a3c737902d76398@squarespace.com
DTSTAMP:20201117T010559Z
DTSTART:20201117T003000Z
DTEND:20201117T013000Z
SUMMARY:Penny's Poached Prawns
GEO:-37.847523;144.997708
LOCATION:AGA Australia\, 330 Malvern Road\, Prahran\, VIC\, 3181\, Australi
 a
END:VEVENT
END:VCALENDAR
