BEGIN:VCALENDAR
VERSION:2.0
PRODID:-//Squarespace Inc/Squarespace 6//v6//EN
BEGIN:VEVENT
UID:5fb30d2f6cf1c94a9fdaef0b@squarespace.com
DTSTAMP:20201117T011555Z
DTSTART:20201117T000000Z
DTEND:20201117T010000Z
SUMMARY:Penny's Griddle Baked Cleopatra’s Figs&nbsp\;&nbsp\;&nbsp\; 
GEO:-37.847523;144.997708
LOCATION:AGA Australia\, 330 Malvern Road\, Prahran\, VIC\, 3181\, Australi
 a
END:VEVENT
END:VCALENDAR
