BEGIN:VCALENDAR
VERSION:2.0
PRODID:-//Squarespace Inc/Squarespace 6//v6//EN
BEGIN:VEVENT
UID:5ed84db8c1f3e47f895e53f1@squarespace.com
DTSTAMP:20200604T013203Z
DTSTART:20200604T013000Z
DTEND:20200604T023000Z
SUMMARY:Penny's Fruit Crunch Crumble
END:VEVENT
END:VCALENDAR
