BEGIN:VCALENDAR
VERSION:2.0
PRODID:-//Squarespace Inc/Squarespace 6//v6//EN
BEGIN:VEVENT
UID:5fb30612819f1862cec00c0d@squarespace.com
DTSTAMP:20201117T010938Z
DTSTART:20201116T233000Z
DTEND:20201117T003000Z
SUMMARY:Penny's Baked Camembert
GEO:-37.847523;144.997708
LOCATION:AGA Australia\, 330 Malvern Road\, Prahran\, VIC\, 3181\, Australi
 a
END:VEVENT
END:VCALENDAR
