BEGIN:VCALENDAR
VERSION:2.0
PRODID:-//Squarespace Inc/Squarespace 6//v6//EN
BEGIN:VEVENT
UID:5dca2c5392a7e01852f6f1fd@squarespace.com
DTSTAMP:20191112T041246Z
DTSTART:20191112T040000Z
DTEND:20191112T050000Z
SUMMARY:Peaches with Rosemary\, Honey and Pistachios
GEO:-37.847522;144.997727
LOCATION:AGA Australia\, 330 Malvern Rd\, Prahran\, Australia
END:VEVENT
END:VCALENDAR
