BEGIN:VCALENDAR
VERSION:2.0
PRODID:-//Squarespace Inc/Squarespace 6//v6//EN
BEGIN:VEVENT
UID:5fa9dad6ef83d42c4701c68f@squarespace.com
DTSTAMP:20201110T001732Z
DTSTART:20201110T003000Z
DTEND:20201110T013000Z
SUMMARY:Mushroom and Caramelised Onion Tartlets
GEO:-37.847523;144.997708
LOCATION:AGA Australia\, 330 Malvern Road\, Prahran\, VIC\, 3181\, Australi
 a
END:VEVENT
END:VCALENDAR
