BEGIN:VCALENDAR
VERSION:2.0
PRODID:-//Squarespace Inc/Squarespace 6//v6//EN
BEGIN:VEVENT
UID:5fa9dd06b874e907d31c2479@squarespace.com
DTSTAMP:20201110T002646Z
DTSTART:20201110T003000Z
DTEND:20201110T013000Z
SUMMARY:Mozzarella Stuffed Tear N Share Bread
GEO:-37.847523;144.997708
LOCATION:AGA Australia\, 330 Malvern Road\, Prahran\, VIC\, 3181\, Australi
 a
END:VEVENT
END:VCALENDAR
