BEGIN:VCALENDAR
VERSION:2.0
PRODID:-//Squarespace Inc/Squarespace 6//v6//EN
BEGIN:VEVENT
UID:5f4358c2a354d1201598434e@squarespace.com
DTSTAMP:20200824T234702Z
DTSTART:20200824T063000Z
DTEND:20200824T073000Z
SUMMARY:Millefeuille
END:VEVENT
END:VCALENDAR
