BEGIN:VCALENDAR
VERSION:2.0
PRODID:-//Squarespace Inc/Squarespace 6//v6//EN
BEGIN:VEVENT
UID:5f0d42244536046d9c744fda@squarespace.com
DTSTAMP:20200901T044145Z
DTSTART:20200714T053000Z
DTEND:20200714T063000Z
SUMMARY:Michelle's Ginger Pound Cake
GEO:-37.847574;144.997697
LOCATION:AGA Australia
END:VEVENT
END:VCALENDAR
