BEGIN:VCALENDAR
VERSION:2.0
PRODID:-//Squarespace Inc/Squarespace 6//v6//EN
BEGIN:VEVENT
UID:5f309b60649257471c696007@squarespace.com
DTSTAMP:20200813T050827Z
DTSTART:20200810T010000Z
DTEND:20200810T020000Z
SUMMARY:Leila's Beef Goulaš
END:VEVENT
END:VCALENDAR
