BEGIN:VCALENDAR
VERSION:2.0
PRODID:-//Squarespace Inc/Squarespace 6//v6//EN
BEGIN:VEVENT
UID:5f4de5dbe85e7c4040a1b185@squarespace.com
DTSTAMP:20200901T061350Z
DTSTART:20200901T063000Z
DTEND:20200901T073000Z
SUMMARY:Kentish Apple Cake
END:VEVENT
END:VCALENDAR
