BEGIN:VCALENDAR
VERSION:2.0
PRODID:-//Squarespace Inc/Squarespace 6//v6//EN
BEGIN:VEVENT
UID:5fd2b16017fb871058123b5e@squarespace.com
DTSTAMP:20201210T234309Z
DTSTART:20201211T000000Z
DTEND:20201211T010000Z
SUMMARY:Individual Christmas Plum Puddings
GEO:-37.847523;144.997708
LOCATION:AGA Australia\, 330 Malvern Road\, Prahran\, VIC\, 3181\, Australi
 a
END:VEVENT
END:VCALENDAR
