BEGIN:VCALENDAR
VERSION:2.0
PRODID:-//Squarespace Inc/Squarespace 6//v6//EN
BEGIN:VEVENT
UID:5f6ab51bc3daac1a522c051a@squarespace.com
DTSTAMP:20200923T025829Z
DTSTART:20200923T030000Z
DTEND:20200923T040000Z
SUMMARY:Homemade Burgers with Chunky Wedges
GEO:-37.847574;144.997697
LOCATION:AGA Australia
END:VEVENT
END:VCALENDAR
