BEGIN:VCALENDAR
VERSION:2.0
PRODID:-//Squarespace Inc/Squarespace 6//v6//EN
BEGIN:VEVENT
UID:5f6aba238348226f1a49c80a@squarespace.com
DTSTAMP:20200923T030622Z
DTSTART:20200923T030000Z
DTEND:20200923T040000Z
SUMMARY:Hazel's Chicken Curry with Lime
GEO:-37.847522;144.997727
LOCATION:AGA Australia\, 330 Malvern Rd\, Prahran\, Australia
END:VEVENT
END:VCALENDAR
