BEGIN:VCALENDAR
VERSION:2.0
PRODID:-//Squarespace Inc/Squarespace 6//v6//EN
BEGIN:VEVENT
UID:5fb6041cae5d8a7bdf614a13@squarespace.com
DTSTAMP:20201119T054307Z
DTSTART:20201119T060000Z
DTEND:20201119T070000Z
SUMMARY:Goats' Cheese\, Tomato and Basil Tartlets
GEO:-37.847523;144.997708
LOCATION:AGA Australia\, 330 Malvern Road\, Prahran\, VIC\, 3181\, Australi
 a
END:VEVENT
END:VCALENDAR
