BEGIN:VCALENDAR
VERSION:2.0
PRODID:-//Squarespace Inc/Squarespace 6//v6//EN
BEGIN:VEVENT
UID:5f4355793ce4e4729affdee3@squarespace.com
DTSTAMP:20200901T050738Z
DTSTART:20200824T060000Z
DTEND:20200824T070000Z
SUMMARY:French Onion Soup
END:VEVENT
END:VCALENDAR
