BEGIN:VCALENDAR
VERSION:2.0
PRODID:-//Squarespace Inc/Squarespace 6//v6//EN
BEGIN:VEVENT
UID:6004f015c4c05a15e22922d4@squarespace.com
DTSTAMP:20210118T022358Z
DTSTART:20210118T023000Z
DTEND:20210118T033000Z
SUMMARY:Feta and Olive Loaf
GEO:-37.847523;144.997708
LOCATION:AGA Australia\, 330 Malvern Road\, Prahran\, VIC\, 3181\, Australi
 a
END:VEVENT
END:VCALENDAR
