BEGIN:VCALENDAR
VERSION:2.0
PRODID:-//Squarespace Inc/Squarespace 6//v6//EN
BEGIN:VEVENT
UID:58095853e58c6284d64ddbc7@squarespace.com
DTSTAMP:20200901T050154Z
DTSTART:20170916T010000Z
DTEND:20240622T030000Z
SUMMARY:DIY Sushi
END:VEVENT
END:VCALENDAR
