BEGIN:VCALENDAR
VERSION:2.0
PRODID:-//Squarespace Inc/Squarespace 6//v6//EN
BEGIN:VEVENT
UID:5de9e4218c354b64fb09e358@squarespace.com
DTSTAMP:20200901T050818Z
DTSTART:20191206T053000Z
DTEND:20191206T063000Z
SUMMARY:Crostini with Pea &amp\; Mint
GEO:-37.847522;144.997727
LOCATION:AGA Australia\, 330 Malvern Rd
END:VEVENT
END:VCALENDAR
