BEGIN:VCALENDAR
VERSION:2.0
PRODID:-//Squarespace Inc/Squarespace 6//v6//EN
BEGIN:VEVENT
UID:5fc96e816c318e3cdc5869ce@squarespace.com
DTSTAMP:20201203T230948Z
DTSTART:20201203T233000Z
DTEND:20201204T003000Z
SUMMARY:Cranberry and Pistachio Shortbread
GEO:-37.847523;144.997708
LOCATION:AGA Australia\, 330 Malvern Road\, Prahran\, VIC\, 3181\, Australi
 a
END:VEVENT
END:VCALENDAR
