BEGIN:VCALENDAR
VERSION:2.0
PRODID:-//Squarespace Inc/Squarespace 6//v6//EN
BEGIN:VEVENT
UID:5f4de4d8654a883d6d51c098@squarespace.com
DTSTAMP:20200901T061002Z
DTSTART:20200901T063000Z
DTEND:20200901T073000Z
SUMMARY:Cottage Cheese Griddle Cakes
END:VEVENT
END:VCALENDAR
