BEGIN:VCALENDAR
VERSION:2.0
PRODID:-//Squarespace Inc/Squarespace 6//v6//EN
BEGIN:VEVENT
UID:5fc96ad573e24d697d28223a@squarespace.com
DTSTAMP:20201203T225659Z
DTSTART:20201203T230000Z
DTEND:20201204T000000Z
SUMMARY:Cinnamon Rolls
GEO:-37.847523;144.997708
LOCATION:AGA Australia\, 330 Malvern Road\, Prahran\, VIC\, 3181\, Australi
 a
END:VEVENT
END:VCALENDAR
