BEGIN:VCALENDAR
VERSION:2.0
PRODID:-//Squarespace Inc/Squarespace 6//v6//EN
BEGIN:VEVENT
UID:5fc96654ab0d1a26d95b0c4b@squarespace.com
DTSTAMP:20201203T224307Z
DTSTART:20201203T223000Z
DTEND:20201203T233000Z
SUMMARY:Christmas Wreath
GEO:-37.847523;144.997708
LOCATION:AGA Australia\, 330 Malvern Road\, Prahran\, VIC\, 3181\, Australi
 a
END:VEVENT
END:VCALENDAR
