BEGIN:VCALENDAR
VERSION:2.0
PRODID:-//Squarespace Inc/Squarespace 6//v6//EN
BEGIN:VEVENT
UID:5e7d42701173962cc061b614@squarespace.com
DTSTAMP:20200901T044817Z
DTSTART:20200327T003000Z
DTEND:20200327T013000Z
SUMMARY:Chicken Caesar Salad
END:VEVENT
END:VCALENDAR
