BEGIN:VCALENDAR
VERSION:2.0
PRODID:-//Squarespace Inc/Squarespace 6//v6//EN
BEGIN:VEVENT
UID:5fe1744051c0c958158b9c53@squarespace.com
DTSTAMP:20201222T042711Z
DTSTART:20201222T043000Z
DTEND:20201222T053000Z
SUMMARY:Buckwheat Blinis with Crème Fraiche &amp\; Smoked Salmon
GEO:-37.847523;144.997708
LOCATION:AGA Australia\, 330 Malvern Road\, Prahran\, VIC\, 3181\, Australi
 a
END:VEVENT
END:VCALENDAR
