BEGIN:VCALENDAR
VERSION:2.0
PRODID:-//Squarespace Inc/Squarespace 6//v6//EN
BEGIN:VEVENT
UID:5fb1f7a316932f1df53f53ae@squarespace.com
DTSTAMP:20201116T035638Z
DTSTART:20201116T040000Z
DTEND:20201116T050000Z
SUMMARY:Broccoli and Goats' Cheese Tart
GEO:-37.847523;144.997708
LOCATION:AGA Australia\, 330 Malvern Road\, Prahran\, VIC\, 3181\, Australi
 a
END:VEVENT
END:VCALENDAR
