BEGIN:VCALENDAR
VERSION:2.0
PRODID:-//Squarespace Inc/Squarespace 6//v6//EN
BEGIN:VEVENT
UID:5f4451b189e3b51301ee31a9@squarespace.com
DTSTAMP:20200901T050715Z
DTSTART:20200825T000000Z
DTEND:20200825T010000Z
SUMMARY:Bouillabaisse
END:VEVENT
END:VCALENDAR
