BEGIN:VCALENDAR
VERSION:2.0
PRODID:-//Squarespace Inc/Squarespace 6//v6//EN
BEGIN:VEVENT
UID:5f4ddd6df411ba6121bf652d@squarespace.com
DTSTAMP:20200901T053956Z
DTSTART:20200901T060000Z
DTEND:20200901T070000Z
SUMMARY:Beer Bread
END:VEVENT
END:VCALENDAR
