BEGIN:VCALENDAR
VERSION:2.0
PRODID:-//Squarespace Inc/Squarespace 6//v6//EN
BEGIN:VEVENT
UID:5f435afe7851a152fd3437ad@squarespace.com
DTSTAMP:20200824T234526Z
DTSTART:20200824T063000Z
DTEND:20200824T073000Z
SUMMARY:Beef Bourguignon
END:VEVENT
END:VCALENDAR
