BEGIN:VCALENDAR
VERSION:2.0
PRODID:-//Squarespace Inc/Squarespace 6//v6//EN
BEGIN:VEVENT
UID:5fd6b8f589566e781f5c6bda@squarespace.com
DTSTAMP:20201214T010501Z
DTSTART:20201214T010000Z
DTEND:20201214T020000Z
SUMMARY:Bean Burger
GEO:-37.847523;144.997708
LOCATION:AGA Australia\, 330 Malvern Road\, Prahran\, VIC\, 3181\, Australi
 a
END:VEVENT
END:VCALENDAR
