BEGIN:VCALENDAR
VERSION:2.0
PRODID:-//Squarespace Inc/Squarespace 6//v6//EN
BEGIN:VEVENT
UID:5fd6bb6c72b1137fa98385dd@squarespace.com
DTSTAMP:20210110T231740Z
DTSTART:20201214T013000Z
DTEND:20201214T023000Z
SUMMARY:Asparagus &amp\; Prawn Risotto
GEO:-37.847523;144.997708
LOCATION:AGA Australia\, 330 Malvern Road\, Prahran\, VIC\, 3181\, Australi
 a
END:VEVENT
END:VCALENDAR
