BEGIN:VCALENDAR
VERSION:2.0
PRODID:-//Squarespace Inc/Squarespace 6//v6//EN
BEGIN:VEVENT
UID:5dca3c9409a99304b0319456@squarespace.com
DTSTAMP:20191112T054008Z
DTSTART:20191112T053000Z
DTEND:20191112T063000Z
SUMMARY:Apple Pie
GEO:-37.847522;144.997727
LOCATION:AGA Australia\, 330 Malvern Rd\, Prahran\, Australia
END:VEVENT
END:VCALENDAR
