BEGIN:VCALENDAR
VERSION:2.0
PRODID:-//Squarespace Inc/Squarespace 6//v6//EN
BEGIN:VEVENT
UID:5f4462b8d70908180c4be1ff@squarespace.com
DTSTAMP:20200901T044411Z
DTSTART:20200825T013000Z
DTEND:20200825T023000Z
SUMMARY:Annie's Creamed Potatoes
END:VEVENT
END:VCALENDAR
