BEGIN:VCALENDAR
VERSION:2.0
PRODID:-//Squarespace Inc/Squarespace 6//v6//EN
BEGIN:VEVENT
UID:5fd6baa4d654060362d5b8f2@squarespace.com
DTSTAMP:20201214T010933Z
DTSTART:20201214T013000Z
DTEND:20201214T023000Z
SUMMARY:Andrew Ki Bhurji's Scrambled Eggs - Indian Style
GEO:-37.847523;144.997708
LOCATION:AGA Australia\, 330 Malvern Road\, Prahran\, VIC\, 3181\, Australi
 a
END:VEVENT
END:VCALENDAR
