BEGIN:VCALENDAR
VERSION:2.0
PRODID:-//Squarespace Inc/Squarespace 6//v6//EN
BEGIN:VEVENT
UID:5fe176e8695b893ddd33ced9@squarespace.com
DTSTAMP:20201222T043537Z
DTSTART:20201222T050000Z
DTEND:20201222T060000Z
SUMMARY:American Maple Stacks
GEO:-37.847523;144.997708
LOCATION:AGA Australia\, 330 Malvern Road\, Prahran\, VIC\, 3181\, Australi
 a
END:VEVENT
END:VCALENDAR
