BEGIN:VCALENDAR
VERSION:2.0
PRODID:-//Squarespace Inc/Squarespace 6//v6//EN
BEGIN:VEVENT
UID:5dca384d32e8517b1016cd04@squarespace.com
DTSTAMP:20191112T045901Z
DTSTART:20191112T050000Z
DTEND:20191112T060000Z
SUMMARY:AGA Quesadillas
GEO:-37.847522;144.997727
LOCATION:AGA Australia\, 330 Malvern Rd\, Prahran\, Australia
END:VEVENT
END:VCALENDAR
